View In:
ArcGIS JavaScript
ArcGIS Online Map Viewer
ArcGIS Earth
ArcGIS Pro
Service Description: This dataset represents the soil makeup of McCall, Idaho. The data and related materials are made available through Esri (http://www.esri.com) and are intended for educational purposes only (see Access and use limitations section).
Map Name: Layers
Legend
All Layers and Tables
Layers:
Description:
Service Item Id: a71c0894d9dd477d8147b378795c101b
Copyright Text: This data is provided by Esri and derived from data provided by USDA, Natural Resources Conservation Service.
Spatial Reference:
102100
(3857)
LatestVCSWkid(0)
Single Fused Map Cache: true
Tile Info:
- Height: 256.0
- Width: 256.0
- DPI: 96.0
-
Levels of Detail: 16
-
Level ID: 1
[ Start Tile, End Tile ]
- Resolution: 78271.5169639999
- Scale: 2.95828763795777E8
-
Level ID: 2
[ Start Tile, End Tile ]
- Resolution: 39135.7584820001
- Scale: 1.47914381897889E8
-
Level ID: 3
[ Start Tile, End Tile ]
- Resolution: 19567.8792409999
- Scale: 7.3957190948944E7
-
Level ID: 4
[ Start Tile, End Tile ]
- Resolution: 9783.93962049996
- Scale: 3.6978595474472E7
-
Level ID: 5
[ Start Tile, End Tile ]
- Resolution: 4891.96981024998
- Scale: 1.8489297737236E7
- Format: PNG
- Compression Quality: 0.0
- Origin: X: -2.0037508342787E7
Y: 2.0037508342787E7
- Spatial Reference: 102100
(3857)
LatestVCSWkid(0)
Initial Extent:
XMin: -1.293284253999725E7
YMin: 5599069.263729997
XMax: -1.2916925984502755E7
YMax: 5611819.855870001
Spatial Reference: 102100
(0)
LatestVCSWkid(0)
Full Extent:
XMin: -1.29304052922E7
YMin: 5599648.836099997
XMax: -1.29193632323E7
YMax: 5611240.283500001
Spatial Reference: 102100
(0)
LatestVCSWkid(0)
Units: esriMeters
Supported Image Format Types: PNG32,PNG24,PNG,JPG,DIB,TIFF,EMF,PS,PDF,GIF,SVG,SVGZ,BMP
Document Info:
Title: Soils
Author: Esri Training Services
Comments: This dataset represents the soil makeup of McCall, Idaho. The data and related materials are made available through Esri (http://www.esri.com) and are intended for educational purposes only (see Access and use limitations section).
Subject: Soil makeup of McCall, Idaho. This data should not be used for any purpose other than that for which it was intended.
Category:
Keywords: PublishAGOL, Idaho, Esri Training Serivces, Geological and geophysical
AntialiasingMode: Best
TextAntialiasingMode: Force
Supports Dynamic Layers: false
MaxRecordCount: 1000
MaxSelectionCount: 0
MaxImageHeight: 4096
MaxImageWidth: 4096
Supported Query Formats: JSON, AMF
Supports Query Data Elements:
Min Scale: 0
Max Scale: 0
Min LOD: 0
Max LOD: 15
Child Resources:
Info
Supported Operations:
QueryLegends
Return Updates